BEGIN:VCALENDAR
VERSION:2.0
PRODID:-//CEMAFAM - ECPv6.2.9//NONSGML v1.0//EN
CALSCALE:GREGORIAN
METHOD:PUBLISH
X-WR-CALNAME:CEMAFAM
X-ORIGINAL-URL:https://www.cemafam.org
X-WR-CALDESC:Events for CEMAFAM
REFRESH-INTERVAL;VALUE=DURATION:PT1H
X-Robots-Tag:noindex
X-PUBLISHED-TTL:PT1H
BEGIN:VTIMEZONE
TZID:UTC
BEGIN:STANDARD
TZOFFSETFROM:+0000
TZOFFSETTO:+0000
TZNAME:UTC
DTSTART:20180101T000000
END:STANDARD
END:VTIMEZONE
BEGIN:VEVENT
DTSTART;VALUE=DATE:20180111
DTEND;VALUE=DATE:20300112
DTSTAMP:20260424T124258
CREATED:20180111T162752Z
LAST-MODIFIED:20200423T082125Z
UID:2987-1515628800-1894406399@www.cemafam.org
SUMMARY:Share Your Thought Here
DESCRIPTION:
URL:https://www.cemafam.org/event/share-your-thought-here/
END:VEVENT
END:VCALENDAR