BEGIN:VCALENDAR
VERSION:2.0
PRODID:-//CEMAFAM - ECPv6.2.9//NONSGML v1.0//EN
CALSCALE:GREGORIAN
METHOD:PUBLISH
X-ORIGINAL-URL:https://www.cemafam.org
X-WR-CALDESC:Events for CEMAFAM
REFRESH-INTERVAL;VALUE=DURATION:PT1H
X-Robots-Tag:noindex
X-PUBLISHED-TTL:PT1H
BEGIN:VTIMEZONE
TZID:UTC
BEGIN:STANDARD
TZOFFSETFROM:+0000
TZOFFSETTO:+0000
TZNAME:UTC
DTSTART:20180101T000000
END:STANDARD
END:VTIMEZONE
BEGIN:VEVENT
DTSTART;TZID=UTC:20180811T120000
DTEND;TZID=UTC:20180811T150000
DTSTAMP:20260425T004802
CREATED:20180530T121038Z
LAST-MODIFIED:20200424T094126Z
UID:3170-1533988800-1533999600@www.cemafam.org
SUMMARY:CEMAFAM ONE YEAR ANNIVERSARY
DESCRIPTION:
URL:https://www.cemafam.org/event/cemafam-one-year-anniversary/
LOCATION:United Kingdom\, Woodview Hall\, 40 Woodview Drive\, Edgbaston\, Birmingham\, B15 2HU\, United Kingdom
CATEGORIES:event
ATTACH;FMTTYPE=image/jpeg:https://www.cemafam.org/wp-content/uploads/2018/05/Cemafam-Anniversart.jpg
ORGANIZER;CN="Pst. Anthony & Mrs Doris Emmanuel":MAILTO:info@cemafam.org
END:VEVENT
BEGIN:VEVENT
DTSTART;TZID=UTC:20180707T130000
DTEND;TZID=UTC:20180707T160000
DTSTAMP:20260425T004802
CREATED:20180530T122646Z
LAST-MODIFIED:20200424T094230Z
UID:3178-1530968400-1530979200@www.cemafam.org
SUMMARY:ANNUAL CONFERENCE
DESCRIPTION:
URL:https://www.cemafam.org/event/annual-conference/
LOCATION:BAMENDA\, Ayaba Hotel\, Bamenda\, Bamenda\, Cameroon
CATEGORIES:event
ATTACH;FMTTYPE=image/jpeg:https://www.cemafam.org/wp-content/uploads/2018/05/Cemafam-Cameroon.jpg
ORGANIZER;CN="MR & MRS PUTIRMAH":MAILTO:cemafam2018@gmail.com
END:VEVENT
BEGIN:VEVENT
DTSTART;TZID=UTC:20180223T190000
DTEND;TZID=UTC:20180224T190000
DTSTAMP:20260425T004802
CREATED:20180109T131213Z
LAST-MODIFIED:20200424T094631Z
UID:2925-1519412400-1519498800@www.cemafam.org
SUMMARY:2 Days Marriage & Relationship Retreat 2018
DESCRIPTION:
URL:https://www.cemafam.org/event/2-days-marriage-relationship-retreat/
LOCATION:United Kingdom\, Woodview Hall\, 40 Woodview Drive\, Edgbaston\, Birmingham\, B15 2HU\, United Kingdom
CATEGORIES:event
ATTACH;FMTTYPE=image/jpeg:https://www.cemafam.org/wp-content/uploads/2017/12/CEMAFAM2.jpg
ORGANIZER;CN="Pst. Anthony & Mrs Doris Emmanuel":MAILTO:info@cemafam.org
END:VEVENT
END:VCALENDAR