BEGIN:VCALENDAR
VERSION:2.0
PRODID:-//CEMAFAM - ECPv6.2.9//NONSGML v1.0//EN
CALSCALE:GREGORIAN
METHOD:PUBLISH
X-WR-CALNAME:CEMAFAM
X-ORIGINAL-URL:https://www.cemafam.org
X-WR-CALDESC:Events for CEMAFAM
REFRESH-INTERVAL;VALUE=DURATION:PT1H
X-Robots-Tag:noindex
X-PUBLISHED-TTL:PT1H
BEGIN:VTIMEZONE
TZID:UTC
BEGIN:STANDARD
TZOFFSETFROM:+0000
TZOFFSETTO:+0000
TZNAME:UTC
DTSTART:20170101T000000
END:STANDARD
TZID:Africa/Nairobi
BEGIN:STANDARD
TZOFFSETFROM:+0300
TZOFFSETTO:+0300
TZNAME:EAT
DTSTART:20170101T000000
END:STANDARD
TZID:Africa/Abidjan
BEGIN:STANDARD
TZOFFSETFROM:+0000
TZOFFSETTO:+0000
TZNAME:GMT
DTSTART:20170101T000000
END:STANDARD
TZID:Europe/London
BEGIN:DAYLIGHT
TZOFFSETFROM:+0000
TZOFFSETTO:+0100
TZNAME:BST
DTSTART:20170326T010000
END:DAYLIGHT
BEGIN:STANDARD
TZOFFSETFROM:+0100
TZOFFSETTO:+0000
TZNAME:GMT
DTSTART:20171029T010000
END:STANDARD
END:VTIMEZONE
BEGIN:VEVENT
DTSTART;TZID=UTC:20180223T190000
DTEND;TZID=UTC:20180224T190000
DTSTAMP:20260425T111712
CREATED:20180109T131213Z
LAST-MODIFIED:20200424T094631Z
UID:2925-1519412400-1519498800@www.cemafam.org
SUMMARY:2 Days Marriage & Relationship Retreat 2018
DESCRIPTION:
URL:https://www.cemafam.org/event/2-days-marriage-relationship-retreat/
LOCATION:United Kingdom\, Woodview Hall\, 40 Woodview Drive\, Edgbaston\, Birmingham\, B15 2HU\, United Kingdom
CATEGORIES:event
ATTACH;FMTTYPE=image/jpeg:https://www.cemafam.org/wp-content/uploads/2017/12/CEMAFAM2.jpg
ORGANIZER;CN="Pst. Anthony & Mrs Doris Emmanuel":MAILTO:info@cemafam.org
END:VEVENT
BEGIN:VEVENT
DTSTART;VALUE=DATE:20171028
DTEND;VALUE=DATE:20171029
DTSTAMP:20260425T111712
CREATED:20171011T151652Z
LAST-MODIFIED:20171011T153541Z
UID:2616-1509148800-1509235199@www.cemafam.org
SUMMARY:Ambassador Zone Meeting
DESCRIPTION:
URL:https://www.cemafam.org/event/fy2018-strategic-planning-2/
LOCATION:Uganda\, Uganda
END:VEVENT
BEGIN:VEVENT
DTSTART;VALUE=DATE:20171021
DTEND;VALUE=DATE:20171022
DTSTAMP:20260425T111712
CREATED:20171011T151107Z
LAST-MODIFIED:20171011T153512Z
UID:2612-1508544000-1508630399@www.cemafam.org
SUMMARY:Ambassador Zone Meeting
DESCRIPTION:
URL:https://www.cemafam.org/event/fy2018-strategic-planning/
LOCATION:Cameroon\, Yaounde\, Central Region\, Cameroon
END:VEVENT
BEGIN:VEVENT
DTSTART;VALUE=DATE:20171021
DTEND;VALUE=DATE:20171022
DTSTAMP:20260425T111712
CREATED:20171011T150839Z
LAST-MODIFIED:20171011T153550Z
UID:2608-1508544000-1508630399@www.cemafam.org
SUMMARY:Ambassador Zone meeting
DESCRIPTION:
URL:https://www.cemafam.org/event/fy2018-strategic-planning-3/
LOCATION:United Kingdom\, Woodview Hall\, 40 Woodview Drive\, Edgbaston\, Birmingham\, B15 2HU\, United Kingdom
END:VEVENT
BEGIN:VEVENT
DTSTART;VALUE=DATE:20170812
DTEND;VALUE=DATE:20170813
DTSTAMP:20260425T111712
CREATED:20170811T215401Z
LAST-MODIFIED:20170812T064114Z
UID:2431-1502496000-1502582399@www.cemafam.org
SUMMARY:CEMAFAM LAUNCHING
DESCRIPTION:The official Inauguration of CEMAFAM will be held at the Global Head quarter tomorrow  Saturday \n 
URL:https://www.cemafam.org/event/cemafam-launching/
LOCATION:Woodview Hall\, 40 WoodView Dr\, Birmingham\, West Midland\, B15\, 2HA\, United Kingdom
ORGANIZER;CN="Pst. Anthony & Mrs Doris Emmanuel":MAILTO:info@cemafam.org
END:VEVENT
END:VCALENDAR